BEGIN:VCALENDAR
VERSION:2.0
PRODID:-//Instituto FBC - ECPv6.15.20//NONSGML v1.0//EN
CALSCALE:GREGORIAN
METHOD:PUBLISH
X-ORIGINAL-URL:https://institutofbc.org
X-WR-CALDESC:Eventos para Instituto FBC
REFRESH-INTERVAL;VALUE=DURATION:PT1H
X-Robots-Tag:noindex
X-PUBLISHED-TTL:PT1H
BEGIN:VTIMEZONE
TZID:UTC
BEGIN:STANDARD
TZOFFSETFROM:+0000
TZOFFSETTO:+0000
TZNAME:UTC
DTSTART:20240101T000000
END:STANDARD
END:VTIMEZONE
BEGIN:VEVENT
DTSTART;TZID=UTC:20251106T190000
DTEND;TZID=UTC:20251106T213000
DTSTAMP:20260424T191640
CREATED:20251030T181038Z
LAST-MODIFIED:20251030T221616Z
UID:65466-1762455600-1762464600@institutofbc.org
SUMMARY:Inauguración de Muestra de Arte "Huellas en la memoria"\, de Virginia Nembrini
DESCRIPTION:Inauguración de Muestra de Arte «Huellas en la memoria»\, de Virginia Nembrini \nFECHA: Jueves 6/11/2025 a las 19 hs. \nModalidad: presencial en el IFBC Av. Ingeniero Huergo 1189\, CABA
URL:https://institutofbc.org/agenda/inauguracion-de-muestra-de-arte-huellas-en-la-memoria-de-virginia-nembrini/
LOCATION:IFBC\, Av. Ingeniero Huergo 1189\, CABA\, Buenos Aires\, Argentina
CATEGORIES:Actividad
ORGANIZER;CN="IFBC":MAILTO:info@institutodelascasas.org
END:VEVENT
END:VCALENDAR