BEGIN:VCALENDAR
VERSION:2.0
PRODID:-//Instituto FBC - ECPv6.15.20//NONSGML v1.0//EN
CALSCALE:GREGORIAN
METHOD:PUBLISH
X-ORIGINAL-URL:https://institutofbc.org
X-WR-CALDESC:Eventos para Instituto FBC
REFRESH-INTERVAL;VALUE=DURATION:PT1H
X-Robots-Tag:noindex
X-PUBLISHED-TTL:PT1H
BEGIN:VTIMEZONE
TZID:UTC
BEGIN:STANDARD
TZOFFSETFROM:+0000
TZOFFSETTO:+0000
TZNAME:UTC
DTSTART:20240101T000000
END:STANDARD
END:VTIMEZONE
BEGIN:VEVENT
DTSTART;TZID=UTC:20251030T163000
DTEND;TZID=UTC:20251030T190000
DTSTAMP:20260424T191557
CREATED:20250826T132914Z
LAST-MODIFIED:20251030T220558Z
UID:55026-1761841800-1761850800@institutofbc.org
SUMMARY:Jornada académica “El juicio abreviado como herramienta de gestión de la pobreza y la desigualdad: ¿una solución o un problema estructural?”
DESCRIPTION:Jueves 30/10/2025 de 16.30 a 19 hs. \nModalidad: HÍBRIDA\, presencial en el IFBC Av. Ingeniero Huergo 1189\, CABA y por Zoom\nhttps://zoom.us/j/96676652271?pwd=lFjcFjqyudrbtAHbqgVC730VhPfsOZ.1
URL:https://institutofbc.org/agenda/jornada-academica-el-juicio-abreviado-como-herramienta-de-gestion-de-la-pobreza-y-la-desigualdad-una-solucion-o-un-problema-estructural/
LOCATION:IFBC\, Av. Ingeniero Huergo 1189\, CABA\, Buenos Aires\, Argentina
CATEGORIES:Actividad
ORGANIZER;CN="IFBC":MAILTO:info@institutodelascasas.org
END:VEVENT
END:VCALENDAR