BEGIN:VCALENDAR
VERSION:2.0
PRODID:-//Instituto FBC - ECPv6.15.20//NONSGML v1.0//EN
CALSCALE:GREGORIAN
METHOD:PUBLISH
X-ORIGINAL-URL:https://institutofbc.org
X-WR-CALDESC:Eventos para Instituto FBC
REFRESH-INTERVAL;VALUE=DURATION:PT1H
X-Robots-Tag:noindex
X-PUBLISHED-TTL:PT1H
BEGIN:VTIMEZONE
TZID:UTC
BEGIN:STANDARD
TZOFFSETFROM:+0000
TZOFFSETTO:+0000
TZNAME:UTC
DTSTART:20240101T000000
END:STANDARD
END:VTIMEZONE
BEGIN:VEVENT
DTSTART;TZID=UTC:20251204T170000
DTEND;TZID=UTC:20251204T170000
DTSTAMP:20260424T151808
CREATED:20251028T224227Z
LAST-MODIFIED:20260416T122833Z
UID:65475-1764867600-1764867600@institutofbc.org
SUMMARY:Conferencia en UBA Derecho “IA - costos\, efectos en clave de DESCA”
DESCRIPTION:Conferencia en facultad de Derecho UBA “IA – costos\, efectos en clave de DESCA”  \nJueves 4/12/2025 a las 17 hs. \nModalidad: presencial en Facultad de Derecho UBA\, Salón Azul\, Av. Pres. Figueroa Alcorta 2263\, CABA
URL:https://institutofbc.org/agenda/conferencia-en-facultad-de-derecho-uba-ia-costos-efectos-en-clave-de-desca/
LOCATION:UBA Derecho\, Argentina
CATEGORIES:Actividad
ATTACH;FMTTYPE=image/jpeg:https://institutofbc.org/wp-content/uploads/2025/11/Lawfare-la-estrategia-regional-del-nuevo-golpe-de-estado-IFBC-web.jpg
END:VEVENT
END:VCALENDAR