BEGIN:VCALENDAR
VERSION:2.0
PRODID:-//Instituto FBC - ECPv6.15.20//NONSGML v1.0//EN
CALSCALE:GREGORIAN
METHOD:PUBLISH
X-ORIGINAL-URL:https://institutofbc.org
X-WR-CALDESC:Eventos para Instituto FBC
REFRESH-INTERVAL;VALUE=DURATION:PT1H
X-Robots-Tag:noindex
X-PUBLISHED-TTL:PT1H
BEGIN:VTIMEZONE
TZID:UTC
BEGIN:STANDARD
TZOFFSETFROM:+0000
TZOFFSETTO:+0000
TZNAME:UTC
DTSTART:20240101T000000
END:STANDARD
END:VTIMEZONE
BEGIN:VEVENT
DTSTART;TZID=UTC:20251120T153000
DTEND;TZID=UTC:20251120T153000
DTSTAMP:20260424T151701
CREATED:20251028T223522Z
LAST-MODIFIED:20251030T224217Z
UID:65472-1763652600-1763652600@institutofbc.org
SUMMARY:Conferencia de cierre de curso SITRAJU
DESCRIPTION:Conferencia de cierre de curso SITRAJU “Derecho Penal y Derechos sociales” – Eugenio Raúl Zaffaroni y Roberto Andrés Gallardo \nFECHA: Jueves 20/11/2025 a las 15.30 hs. \nModalidad: presencial en Alsina 1223\, CABA y por Zoom
URL:https://institutofbc.org/agenda/conferencia-de-cierre-de-curso-sitraju/
LOCATION:Ciudad Autónoma de Buenos Aires\, CABA\, Argentina
CATEGORIES:Formación
ORGANIZER;CN="IFBC":MAILTO:info@institutodelascasas.org
END:VEVENT
END:VCALENDAR